  BEGIN:VCALENDAR
VERSION:2.0
PRODID:-//Pureformance Digital Marketing - Orange County - ECPv6.0.12//NONSGML v1.0//EN
CALSCALE:GREGORIAN
METHOD:PUBLISH
X-ORIGINAL-URL:https://pureformancedigital.com
X-WR-CALDESC:Events for Pureformance Digital Marketing - Orange County
REFRESH-INTERVAL;VALUE=DURATION:PT1H
X-Robots-Tag:noindex
X-PUBLISHED-TTL:PT1H
BEGIN:VTIMEZONE
TZID:America/Los_Angeles
BEGIN:DAYLIGHT
TZOFFSETFROM:-0800
TZOFFSETTO:-0700
TZNAME:PDT
DTSTART:20240310T100000
END:DAYLIGHT
BEGIN:STANDARD
TZOFFSETFROM:-0700
TZOFFSETTO:-0800
TZNAME:PST
DTSTART:20241103T090000
END:STANDARD
BEGIN:DAYLIGHT
TZOFFSETFROM:-0800
TZOFFSETTO:-0700
TZNAME:PDT
DTSTART:20250309T100000
END:DAYLIGHT
BEGIN:STANDARD
TZOFFSETFROM:-0700
TZOFFSETTO:-0800
TZNAME:PST
DTSTART:20251102T090000
END:STANDARD
END:VTIMEZONE
BEGIN:VEVENT
DTSTART;VALUE=DATE:20240905
DTEND;VALUE=DATE:20250201
DTSTAMP:20260421T191048
CREATED:20230908T004948Z
LAST-MODIFIED:20240824T211906Z
UID:1036-1725494400-1738367999@pureformancedigital.com
SUMMARY:All Football Games Shown | NFL Sunday Ticket West LA
DESCRIPTION:We are a bar with NFL Sunday Ticket in West Los Angeles. You can catch all the games at Banter Bar\, whether it’s Monday\, Thursday\, or Sunday. We will have all the action showing. \n. \nWe are a sports bar in West LA with wall to wall TVs\, plenty of seating\, pool tables\, great cocktails and good vibes; making Banter Bar the best bar to watch football in West Los Angeles. \n. \n. \nWe are a neighborhood sports bar with classic cocktails\, pool and good vibes. Visit us at 2965 S Sepulveda Blvd. Open until 2am every night.  \n. \nNFL Sunday Ticket West LA \n. \nWe are a neighborhood sports bar that has classic cocktails\, pool and good vibes. \n. \nFollow us on Instagram and Facebook 
URL:https://pureformancedigital.com/event/bar-with-nfl-sunday-ticket-west-la/
LOCATION:Banter Bar Los Angeles\, 2965 S Sepulveda Blvd\, Los Angeles\, CA\, 90064\, United States
ATTACH;FMTTYPE=image/png:https://pureformancedigital.com/wp-content/uploads/2023/09/Sports-4.png
ORGANIZER;CN="Banter%20Bar%20Los%20Angeles":MAILTO:info@pureformancedigital.com
END:VEVENT
END:VCALENDAR