  BEGIN:VCALENDAR
VERSION:2.0
PRODID:-//Pureformance Digital Marketing - Orange County - ECPv6.0.12//NONSGML v1.0//EN
CALSCALE:GREGORIAN
METHOD:PUBLISH
X-ORIGINAL-URL:https://pureformancedigital.com
X-WR-CALDESC:Events for Pureformance Digital Marketing - Orange County
REFRESH-INTERVAL;VALUE=DURATION:PT1H
X-Robots-Tag:noindex
X-PUBLISHED-TTL:PT1H
BEGIN:VTIMEZONE
TZID:Europe/London
BEGIN:DAYLIGHT
TZOFFSETFROM:+0000
TZOFFSETTO:+0100
TZNAME:BST
DTSTART:20230326T010000
END:DAYLIGHT
BEGIN:STANDARD
TZOFFSETFROM:+0100
TZOFFSETTO:+0000
TZNAME:GMT
DTSTART:20231029T010000
END:STANDARD
END:VTIMEZONE
BEGIN:VEVENT
DTSTART;TZID=Europe/London:20231117T210000
DTEND;TZID=Europe/London:20231118T210000
DTSTAMP:20260422T114051
CREATED:20231118T081742Z
LAST-MODIFIED:20231118T081742Z
UID:1295-1700254800-1700341200@pureformancedigital.com
SUMMARY:Friendsgiving Party
DESCRIPTION:We’re hosting a Friendsgiving Friday\, November 17th with two DJs from 9pm to late.\n.\n.\nWe are a neighborhood sports bar with classic cocktails\, pool\, and good vibes.\n.\nWe have NFL Sunday Ticket\, so all games will be shown every week.\n.\nOpen until 2am every night\, 365 days a year.\n.\n.\nVisit us at 2965 S Sepulveda Blvd. in West Los Angeles.
URL:https://pureformancedigital.com/event/friendsgiving-party/
LOCATION:Banter Bar Los Angeles\, 2965 S Sepulveda Blvd\, Los Angeles\, CA\, 90064\, United States
ATTACH;FMTTYPE=image/jpeg:https://pureformancedigital.com/wp-content/uploads/2023/11/Banter-4.jpeg
ORGANIZER;CN="Banter%20Bar%20Los%20Angeles":MAILTO:info@pureformancedigital.com
END:VEVENT
END:VCALENDAR