  BEGIN:VCALENDAR
VERSION:2.0
PRODID:-//Pureformance Digital Marketing - Orange County - ECPv6.0.12//NONSGML v1.0//EN
CALSCALE:GREGORIAN
METHOD:PUBLISH
X-ORIGINAL-URL:https://pureformancedigital.com
X-WR-CALDESC:Events for Pureformance Digital Marketing - Orange County
REFRESH-INTERVAL;VALUE=DURATION:PT1H
X-Robots-Tag:noindex
X-PUBLISHED-TTL:PT1H
BEGIN:VTIMEZONE
TZID:Europe/London
BEGIN:DAYLIGHT
TZOFFSETFROM:+0000
TZOFFSETTO:+0100
TZNAME:BST
DTSTART:20230326T010000
END:DAYLIGHT
BEGIN:STANDARD
TZOFFSETFROM:+0100
TZOFFSETTO:+0000
TZNAME:GMT
DTSTART:20231029T010000
END:STANDARD
END:VTIMEZONE
BEGIN:VEVENT
DTSTART;TZID=Europe/London:20231025T210000
DTEND;TZID=Europe/London:20231026T013000
DTSTAMP:20260422T130246
CREATED:20231020T062130Z
LAST-MODIFIED:20231020T062130Z
UID:1179-1698267600-1698283800@pureformancedigital.com
SUMMARY:Karaoke For A Cause | Operation Ride Home w/ Jack Daniel's
DESCRIPTION:Operation Ride Home: Operation Ride Home is a program designed to assist junior enlisted service members and those with families travel from their military bases to homes around the country. Learn More Here\n.\n.\nWe have partnered with Jack Daniel’s to bring this fundraiser to Banter Bar for a night of Karaoke and $9 Jack Daniel’s Cocktails\n.\n.\n$9 Cocktails: Jack and Coke\, Jack Bonded & Ginger\, Gentleman Jack & Soda\, Jack Fire Shot & Beer.
URL:https://pureformancedigital.com/event/karaoke-for-a-cause-operation-ride-home-w-jack-daniels/
LOCATION:Banter Bar Los Angeles\, 2965 S Sepulveda Blvd\, Los Angeles\, CA\, 90064\, United States
ATTACH;FMTTYPE=image/jpeg:https://pureformancedigital.com/wp-content/uploads/2023/10/Untitled-1.jpeg
ORGANIZER;CN="Banter%20Bar%20Los%20Angeles":MAILTO:info@pureformancedigital.com
END:VEVENT
END:VCALENDAR