  BEGIN:VCALENDAR
VERSION:2.0
PRODID:-//Pureformance Digital Marketing - Orange County - ECPv6.0.12//NONSGML v1.0//EN
CALSCALE:GREGORIAN
METHOD:PUBLISH
X-WR-CALNAME:Pureformance Digital Marketing - Orange County
X-ORIGINAL-URL:https://pureformancedigital.com
X-WR-CALDESC:Events for Pureformance Digital Marketing - Orange County
REFRESH-INTERVAL;VALUE=DURATION:PT1H
X-Robots-Tag:noindex
X-PUBLISHED-TTL:PT1H
BEGIN:VTIMEZONE
TZID:Europe/London
BEGIN:DAYLIGHT
TZOFFSETFROM:+0000
TZOFFSETTO:+0100
TZNAME:BST
DTSTART:20230326T010000
END:DAYLIGHT
BEGIN:STANDARD
TZOFFSETFROM:+0100
TZOFFSETTO:+0000
TZNAME:GMT
DTSTART:20231029T010000
END:STANDARD
END:VTIMEZONE
BEGIN:VEVENT
DTSTART;TZID=Europe/London:20230913T200000
DTEND;TZID=Europe/London:20230914T200000
DTSTAMP:20260422T142255
CREATED:20230908T041445Z
LAST-MODIFIED:20230908T041445Z
UID:1046-1694635200-1694721600@pureformancedigital.com
SUMMARY:Virgo Birthday Party | West Los Angeles
DESCRIPTION:Join us for a Virgo birthday party at Banter Bar! We will have karaoke\, drinks\, and fun!\n\n\n.\n.\nWe are a neighborhood sports bar in West Los Angeles with classic cocktails\, pool and good vibes. Visit us at 2965 S Sepulveda Blvd. Open until 2am every night.
URL:https://pureformancedigital.com/event/virgo-birthday-party-west-los-angeles/
LOCATION:Banter Bar Los Angeles\, 2965 S Sepulveda Blvd\, Los Angeles\, CA\, 90064\, United States
ATTACH;FMTTYPE=image/png:https://pureformancedigital.com/wp-content/uploads/2023/09/virgo-birthday-party-la-event.png
ORGANIZER;CN="Banter%20Bar%20Los%20Angeles":MAILTO:info@pureformancedigital.com
END:VEVENT
END:VCALENDAR